BEGIN:VCALENDAR
VERSION:2.0
PRODID:-//Japan Information and Study Centre - ECPv6.15.17.1//NONSGML v1.0//EN
CALSCALE:GREGORIAN
METHOD:PUBLISH
X-WR-CALNAME:Japan Information and Study Centre
X-ORIGINAL-URL:https://www.japancentreatama.com
X-WR-CALDESC:Events for Japan Information and Study Centre
REFRESH-INTERVAL;VALUE=DURATION:PT1H
X-Robots-Tag:noindex
X-PUBLISHED-TTL:PT1H
BEGIN:VTIMEZONE
TZID:Asia/Kolkata
BEGIN:STANDARD
TZOFFSETFROM:+0530
TZOFFSETTO:+0530
TZNAME:IST
DTSTART:20140101T000000
END:STANDARD
END:VTIMEZONE
BEGIN:VEVENT
DTSTART;TZID=Asia/Kolkata:20150112T183000
DTEND;TZID=Asia/Kolkata:20150112T201500
DTSTAMP:20260421T011336
CREATED:20141230T095945Z
LAST-MODIFIED:20141230T095945Z
UID:1825-1421087400-1421093700@www.japancentreatama.com
SUMMARY:Panel Discussion on 'Japanese Architecture - Inspirations For Indian Architects'
DESCRIPTION:[vc_row][vc_column width=”1/2″][vc_column_text]Speakers – Leading Japanese & Indian Architects: \n\nKenji Ishikawa (Takenaka Corporation)\,\nHiren Patel (HPA)\nJuichi Iida (Vaastu Shilpa)\n\n[/vc_column_text][/vc_column][vc_column width=”1/2″][vc_column_text]You do not have permission to view this form.[/vc_column_text][/vc_column][/vc_row]
URL:https://www.japancentreatama.com/event/panel-discussion-on-japanese-architecture-inspirations-for-indian-architects/
LOCATION:Formidable Style
CATEGORIES:Japan Festival
END:VEVENT
BEGIN:VEVENT
DTSTART;TZID=Asia/Kolkata:20150111T120000
DTEND;TZID=Asia/Kolkata:20150123T200000
DTSTAMP:20260421T011336
CREATED:20141230T101325Z
LAST-MODIFIED:20141230T101325Z
UID:1833-1420977600-1422043200@www.japancentreatama.com
SUMMARY:Exhibition of Photo Classics Of Japan In Bloom
DESCRIPTION:[vc_row][vc_column][vc_row_inner][vc_column_inner width=”1/2″][vc_column_text]Colourful Japan – Through The Lens Eye Of Mukesh Patel \nMukesh Patel – Founder and President of the Indo-Japan Friendship Association\, Gujarat\, is also an ardent photographer\, who has extensively travelled Japan\, in all seasons\, for over 25 times.[/vc_column_text][/vc_column_inner][vc_column_inner width=”1/2″][vc_column_text]You do not have permission to view this form.[/vc_column_text][/vc_column_inner][/vc_row_inner][vc_column_text]Colourful Japan – Presenting 30 fascinating photo classics captured through his lens eye\, will take you through a scintillating journey across Japan to witness blooming colours of pink and white Sakura (Cherry Blossoms) in Spring and brilliant streaks of red\, orange\, yellow and gold of Koyo (Colourful Autumn Leaves) during Fall. \nExhibition open for all interested. Daily 12 noon to 8 pm. From Sunday\, 11th January to Friday\, 23rd January (Except on 14th & 15th January – Kite Flying Holidays)[/vc_column_text][/vc_column][/vc_row]
URL:https://www.japancentreatama.com/event/exhibition-of-photo-classics-of-japan-in-bloom/
LOCATION:Formidable Style
CATEGORIES:Japan Festival
END:VEVENT
BEGIN:VEVENT
DTSTART;TZID=Asia/Kolkata:20150111T120000
DTEND;TZID=Asia/Kolkata:20150123T200000
DTSTAMP:20260421T011336
CREATED:20141230T094448Z
LAST-MODIFIED:20141230T094448Z
UID:1824-1420977600-1422043200@www.japancentreatama.com
SUMMARY:Exhibition on Contemporary Japanese Architecture
DESCRIPTION:[vc_row][vc_column][vc_row_inner][vc_column_inner width=”1/2″][vc_column_text]A World Class Exhibition\, featuring some of Japan’s most influential architects Toyo Ito (Pritzker Prize Winner 2013)\, Kengo Kuma\, Tadao Ando\, Kenzo Tange and SAANA. With a specific focus on the decade of 1996-2006\, Parallel Nippon is a collection of creative architectural solutions that reflect the social and cultural context of contemporary Japan.[/vc_column_text][/vc_column_inner][vc_column_inner width=”1/2″][vc_column_text]You do not have permission to view this form.[/vc_column_text][/vc_column_inner][/vc_row_inner][vc_column_text]The exhibition includes photographic panels and model of Japanese designs showcased in four themes: Urban\, Life\, Culture and Living. The exhibition contains high quality large-scale photographs\, wooden and paper (origami) architectural models\, along with a film on contemporary Japanese architecture and informative panels with texts written by Japanese experts\, professors and architects. \nThe exhibition aims to present to the world\, momentous achievements of Japanese architects and to contribute to better understanding and acceptance of new architectural practices across the world. \nExhibition open for all interested. Daily 12 noon to 8 pm. From Sunday\, 11th January to Friday\, 23rd January (Except on 14th & 15th January – Kite Flying Holidays)[/vc_column_text][/vc_column][/vc_row]
URL:https://www.japancentreatama.com/event/exhibition-on-contemporary-japanese-architecture/
LOCATION:Formidable Style
CATEGORIES:Japan Festival
END:VEVENT
BEGIN:VEVENT
DTSTART;TZID=Asia/Kolkata:20150110T180000
DTEND;TZID=Asia/Kolkata:20150110T180000
DTSTAMP:20260421T011336
CREATED:20141230T101056Z
LAST-MODIFIED:20141230T101056Z
UID:1826-1420912800-1420912800@www.japancentreatama.com
SUMMARY:Inauguration of the Exhibition of Photo Classics Of Japan In Bloom
DESCRIPTION:[vc_row][vc_column width=”1/1″][vc_row_inner][vc_column_inner width=”1/2″][vc_column_text]Inauguration by \nChief Guest Hon’ble Mr.Yoshio Ito \nConsul General of Japan at Mumbai \n[/vc_column_text][vc_separator color=”grey” style=”dotted”][vc_column_text]Open for Public Viewing from \n11th to 13th & 16th to 23rd January\, \nDaily 12 noon to 8 pm[/vc_column_text][/vc_column_inner][vc_column_inner width=”1/2″][vc_column_text]You do not have permission to view this form.[/vc_column_text][/vc_column_inner][/vc_row_inner][vc_column_text]Colourful Japan – Through The Lens Eye Of Mukesh Patel \nMukesh Patel – Founder and President of the Indo-Japan Friendship Association\, Gujarat\, is also an ardent photographer\, who has extensively travelled Japan\, in all seasons\, for over 25 times. \nColourful Japan – Presenting 30 fascinating photo classics captured through his lens eye\, will take you through a scintillating journey across Japan to witness blooming colours of pink and white Sakura (Cherry Blossoms) in Spring and brilliant streaks of red\, orange\, yellow and gold of Koyo (Colourful Autumn Leaves) during Fall.[/vc_column_text][/vc_column][/vc_row]
URL:https://www.japancentreatama.com/event/inauguration-of-the-exhibition-of-photo-classics-of-japan-in-bloom/
LOCATION:Formidable Style
CATEGORIES:Inaugural Function
END:VEVENT
BEGIN:VEVENT
DTSTART;TZID=Asia/Kolkata:20150110T180000
DTEND;TZID=Asia/Kolkata:20150110T180000
DTSTAMP:20260421T011336
CREATED:20141230T094247Z
LAST-MODIFIED:20141230T094247Z
UID:1823-1420912800-1420912800@www.japancentreatama.com
SUMMARY:Inauguration of the Exhibition on Japanese Contemporary Architecture
DESCRIPTION:[vc_row][vc_column][vc_row_inner][vc_column_inner width=”1/2″][vc_column_text]Inauguration by \nChief Guest Hon’ble Mr.Yoshio Ito \nConsul General of Japan at Mumbai \n[/vc_column_text][vc_separator color=”grey”][vc_column_text]Open for Public Viewing from \n11th to 13th & 16th to 23rd January\, \nDaily 12 noon to 8 pm[/vc_column_text][/vc_column_inner][vc_column_inner width=”1/2″][vc_column_text]You do not have permission to view this form.[/vc_column_text][/vc_column_inner][/vc_row_inner][vc_column_text]A World Class Exhibition\, featuring some of Japan’s most influential architects Toyo Ito (Pritzker Prize Winner 2013)\, Kengo Kuma\, Tadao Ando\, Kenzo Tange and SAANA. With a specific focus on the decade of 1996-2006\, Parallel Nippon is a collection of creative architectural solutions that reflect the social and cultural context of contemporary Japan. \nThe exhibition includes photographic panels and model of Japanese designs showcased in four themes: Urban\, Life\, Culture and Living. The exhibition contains high quality large-scale photographs\, wooden and paper (origami) architectural models\, along with a film on contemporary Japanese architecture and informative panels with texts written by Japanese experts\, professors and architects. \nThe exhibition aims to present to the world\, momentous achievements of Japanese architects and to contribute to better understanding and acceptance of new architectural practices across the world.[/vc_column_text][/vc_column][/vc_row]
URL:https://www.japancentreatama.com/event/inauguration-of-the-exhibition-on-japanese-contemporary-architecture/
LOCATION:Formidable Style
CATEGORIES:Inaugural Function
END:VEVENT
BEGIN:VEVENT
DTSTART;TZID=Asia/Kolkata:20150110T180000
DTEND;TZID=Asia/Kolkata:20150110T180000
DTSTAMP:20260421T011336
CREATED:20141230T091547Z
LAST-MODIFIED:20141230T091547Z
UID:1830-1420912800-1420912800@www.japancentreatama.com
SUMMARY:Inauguration of the Japan Centre at AMA
DESCRIPTION:[vc_row][vc_column][vc_row_inner][vc_column_inner width=”1/2″][vc_column_text]Hon’ble Bhupendrasinh Chudasama\,\nEducation Minister\, Govt. of Gujarat.\nhas kindly consented to inaugurate the Japan Centre. \n  \n  \n  \n[/vc_column_text][vc_separator color=”grey” style=”dotted”][vc_column_text]Hon’ble Mr. Yoshiaki Ito\nConsul General of Japan at Mumbai\nhas kindly consented to be the Chief Guest. \n\n\n\n\n\n[/vc_column_text][vc_text_separator title=”Guests of Honour” title_align=”separator_align_center” color=”black” style=”dotted” el_class=”clear_goh”][vc_column_text]Mr.Masakazu Sakakida\, CMD\, \nMitsubishi Corporation India Pvt. Ltd. \n  \n  \n  \n  \n[/vc_column_text][vc_separator color=”grey” style=”dotted”][vc_column_text]Mr.Daisuke Kadono\, CMD\, \nMetal One Corporation India Pvt. Ltd.[/vc_column_text][/vc_column_inner][vc_column_inner width=”1/2″][vc_column_text]You do not have permission to view this form.[/vc_column_text][vc_separator color=”grey” style=”dotted”][vc_column_text]The Japan Information and Study Centre at Ahmedabad Management Association (AMA)\, a unique and the first of its kind in the country\, is being set up with the support of leading Japanese Companies\, Mitsubishi Corporation India Pvt. Ltd. and Metal One Corporation India Pvt. Ltd. \nThe Centre\, being set up with the objective of furthering Indo-Japanese Relations on Academic\, Business and Cultural fronts between Japan and India\, aims at encouraging and promoting study and learning of Japanese Language\, Art\, Literature\, History\, Culture\, Traditions\, Business\, Economy\, Management and diverse aspects relating to Japan. \nThe Centre is equipped with a state-of-the-art Japan Library\, having reference books\, journals\, audio-visual learning aids\, films\, digital viewing facilities\, industry-business information\, language learning resources\, etc. The Centre will endeavour to connect with different parts of Gujarat and India through video conferencing and other innovative methods of distance learning.[/vc_column_text][/vc_column_inner][/vc_row_inner][/vc_column][/vc_row]
URL:https://www.japancentreatama.com/event/inauguration-of-the-japan-centre-at-ama/
LOCATION:Formidable Style
CATEGORIES:Inaugural Function
END:VEVENT
END:VCALENDAR