BEGIN:VCALENDAR
VERSION:2.0
PRODID:-//Japan Information and Study Centre - ECPv6.15.17.1//NONSGML v1.0//EN
CALSCALE:GREGORIAN
METHOD:PUBLISH
X-WR-CALNAME:Japan Information and Study Centre
X-ORIGINAL-URL:https://www.japancentreatama.com
X-WR-CALDESC:Events for Japan Information and Study Centre
REFRESH-INTERVAL;VALUE=DURATION:PT1H
X-Robots-Tag:noindex
X-PUBLISHED-TTL:PT1H
BEGIN:VTIMEZONE
TZID:Asia/Kolkata
BEGIN:STANDARD
TZOFFSETFROM:+0530
TZOFFSETTO:+0530
TZNAME:IST
DTSTART:20230101T000000
END:STANDARD
END:VTIMEZONE
BEGIN:VEVENT
DTSTART;TZID=Asia/Kolkata:20241004T160000
DTEND;TZID=Asia/Kolkata:20241004T170000
DTSTAMP:20260421T153507
CREATED:20240929T045316Z
LAST-MODIFIED:20240930T030031Z
UID:2978-1728057600-1728061200@www.japancentreatama.com
SUMMARY:12th JAPAN FESTIVAL AT AMA | INAUGURATION OF THE PHOTO-FILM EXHIBITION ON DANCE FESTIVALS OF JAPAN
DESCRIPTION:Register Online  Download Brochure
URL:https://www.japancentreatama.com/event/12th-japan-festival-at-ama-inauguration-of-the-photo-film-exhibition-on-dance-festivals-of-japan/
LOCATION:Ahmedabad Management Association\, ATIRA Campus\, Dr.Vikram Sarabhai Marg\,\, Ahmedabad\, Gujarat\, 380015\, India
CATEGORIES:Inaugural Function,Japan Festival,Open Program
ATTACH;FMTTYPE=image/jpeg:https://www.japancentreatama.com/jc/wp-content/uploads/2024/09/2.jpeg
END:VEVENT
END:VCALENDAR