BEGIN:VCALENDAR
VERSION:2.0
PRODID:-//Japan Information and Study Centre - ECPv6.15.17.1//NONSGML v1.0//EN
CALSCALE:GREGORIAN
METHOD:PUBLISH
X-ORIGINAL-URL:https://www.japancentreatama.com
X-WR-CALDESC:Events for Japan Information and Study Centre
REFRESH-INTERVAL;VALUE=DURATION:PT1H
X-Robots-Tag:noindex
X-PUBLISHED-TTL:PT1H
BEGIN:VTIMEZONE
TZID:Asia/Kolkata
BEGIN:STANDARD
TZOFFSETFROM:+0530
TZOFFSETTO:+0530
TZNAME:IST
DTSTART:20220101T000000
END:STANDARD
END:VTIMEZONE
BEGIN:VEVENT
DTSTART;TZID=Asia/Kolkata:20230623T173000
DTEND;TZID=Asia/Kolkata:20230623T190000
DTSTAMP:20260422T195319
CREATED:20230620T112620Z
LAST-MODIFIED:20230620T112620Z
UID:2806-1687541400-1687546800@www.japancentreatama.com
SUMMARY:JAPAN CULTURAL CENTRE INAUGURATION
DESCRIPTION:Pioneering the Vision & Mission of\nMaking Gujarat the Mini-Japan of India\nJAPAN CENTRES AT AMA \nhave enjoyed a Unique Recognition & Goodwill Over the Years! \nAfter the Trailblazing Success of\nJapanese Language Centre\nJapan Information & Study Centre\nJapanese Zen Garden\nKHS Kaizen Academy \nWe are Proud to Launch the Fifth Dedicated Activity Hub\nFor Nurturing Japan India Friendly Relations\nJAPAN CULTURAL CENTRE\nInspired by Smt. Paru Mrugesh Jaykrishna\nWith the Support of Asahi Songwon & Aksharchem India! \n  \nDate: Friday\, 23 rd June\, 2023 Time: 5.30 pm\nVenue: J B Auditorium\, Ahmedabad Management Association\nDr Vikram Sarabhai Marg\, Ahmedabad 380 015 \nDr. Yasukata Fukahori \nHon’ble Consul General of Japan at Mumbai\nhas consented to deliver the Inaugural Address. \nShri Ajay Patel \nLeading Luminary of Public Life in Gujarat\nhas consented to grace the occasion as Chief Guest. \nMr. Takehiko Furukawa\nDirector General\, JETRO\, Ahmedabad\nwill present his Felicitatory Greetings. \n\nDeevyesh Radia\nPresident\nAhmedabad Management Association\nMukesh Patel\nPresident\nIndo-Japan Friendship Association\, Gujarat\n\n\n\n Register Online
URL:https://www.japancentreatama.com/event/japan-cultural-centre-inauguration-june-2023/
LOCATION:Ahmedabad Management Association\, ATIRA Campus\, Dr.Vikram Sarabhai Marg\,\, Ahmedabad\, Gujarat\, 380015\, India
CATEGORIES:Inaugural Function
ATTACH;FMTTYPE=image/jpeg:https://www.japancentreatama.com/jc/wp-content/uploads/2023/06/INVITATION_JAPAN-CENTRES-AT-AMA_FINAL.jpg
END:VEVENT
END:VCALENDAR