BEGIN:VCALENDAR
VERSION:2.0
PRODID:-//Japan Information and Study Centre - ECPv6.15.17.1//NONSGML v1.0//EN
CALSCALE:GREGORIAN
METHOD:PUBLISH
X-ORIGINAL-URL:https://www.japancentreatama.com
X-WR-CALDESC:Events for Japan Information and Study Centre
REFRESH-INTERVAL;VALUE=DURATION:PT1H
X-Robots-Tag:noindex
X-PUBLISHED-TTL:PT1H
BEGIN:VTIMEZONE
TZID:Asia/Kolkata
BEGIN:STANDARD
TZOFFSETFROM:+0530
TZOFFSETTO:+0530
TZNAME:IST
DTSTART:20240101T000000
END:STANDARD
END:VTIMEZONE
BEGIN:VEVENT
DTSTART;TZID=Asia/Kolkata:20251102T081500
DTEND;TZID=Asia/Kolkata:20260208T101500
DTSTAMP:20260423T031852
CREATED:20251009T031924Z
LAST-MODIFIED:20251009T031924Z
UID:3060-1762071300-1770545700@www.japancentreatama.com
SUMMARY:CONVERSATIONAL JAPANESE COURSE FOR BEGINNERS (WEEK-END BATCH)
DESCRIPTION:Programme Dates:\nNovember 2\, 2025 to February 8\, 2026 (Every Sundays) \nDuration:\nWeek-end Batch\, Every Sunday\n2 Hours per Week; 15 Weeks Program – Total 30 Hours \nTime:\n8:15 am to 10:15 am \nProgramme Fee:\nINR 4\,500/- Inclusive 18% GST.\nConcession for Members 10%; Patron 20%. \nLast Date to Register:\nNovember 1\, 2025 \nFACULTY\nMr Akshay Chudasama \n Register Online  Download Brochure
URL:https://www.japancentreatama.com/event/conversational-japanese-course-for-beginners-nov-2025/
LOCATION:Ahmedabad Management Association\, ATIRA Campus\, Dr.Vikram Sarabhai Marg\,\, Ahmedabad\, Gujarat\, 380015\, India
CATEGORIES:Course
END:VEVENT
BEGIN:VEVENT
DTSTART;TZID=Asia/Kolkata:20251116T093000
DTEND;TZID=Asia/Kolkata:20260118T123000
DTSTAMP:20260423T031852
CREATED:20251104T152554Z
LAST-MODIFIED:20251104T152710Z
UID:3063-1763285400-1768739400@www.japancentreatama.com
SUMMARY:Conversational Japanese Course for Beginners
DESCRIPTION:16 November 2025 to 18 January 2026\nWeek-end Batch\, Every Sunday\nTimings: 9:30 am to 12:30 pm\nProgram Duration: 3 Hours per Week; 10 Weeks Program – Total 30 Hours \nThis Course introduces Japanese phrases and promotes a verbal communication. The Learner will learn the meaning of each word and natural Japanese expressions. This Course is conducted in English and Japanese and designed for those who have no or little knowledge of Japanese. \nCOURSE OBJECTIVES \n\nTo enable Students to acquire the basic understanding of the Japanese language structures and sentence patterns.\nTo enable students to develop the ability to communicate the basics including self introducing themselves in the Japanese language.\nTo teach pronunciation and intonation of Japanese sounds and to enable students to comprehend and speak simple sentences in Japanese.\nTo enable students to listen and comprehend conversations about topics regularly encountered in daily life and classroom situations\, and is able to pick up necessary information from short conversations.\n\nCOURSE OUTCOMES \nOn completion of the Course\, Learner will be able to: \n\nIdentify Japanese pronunciations and related speaking skills.\nIdentify Basic Japanese Sentences & its usage.\nIdentify Basic Japanese Grammar Daily Verbs\, Adjectives and Particles.\nGet use to Basic Japanese Greetings & related Vocabulary.\nGet use to Basic Japanese Language\, Listening and Speaking skills.\nConstruct Basic Self Introduction with greetings in Japanese.\n\nFACULTY: Mr. Akshay Chudasama  \nFees: Rs.4\,500/- (Inclusive GST)\n Register Online  Download Brochure
URL:https://www.japancentreatama.com/event/conversational-japanese-course-for-beginners-nov-2025-jan-2026/
LOCATION:Ahmedabad Management Association\, ATIRA Campus\, Dr.Vikram Sarabhai Marg\,\, Ahmedabad\, Gujarat\, 380015\, India
CATEGORIES:Course
END:VEVENT
BEGIN:VEVENT
DTSTART;TZID=Asia/Kolkata:20251122T180000
DTEND;TZID=Asia/Kolkata:20260208T200000
DTSTAMP:20260423T031852
CREATED:20250811T045404Z
LAST-MODIFIED:20250811T081204Z
UID:3041-1763834400-1770580800@www.japancentreatama.com
SUMMARY:Advanced N5 Level JAPANESE LANGUAGE COURSE FOR BEGINNERS
DESCRIPTION:(Advanced N5 Level)\nSupported by Japan International Cooperation Agency (JICA)\nNovember 22\, 2025 to February 8\, 2026\nProgram Duration: 5 Hours per Week\, 12 Weeks Program [60 hours]\nTwo Days a Week; Every Saturday and Sunday\nTimings: Saturday (6.00 to 8.00 pm) & Sunday (10:00 am to 1:00 pm) \n‘Yokoso Japan’\, as they say in Japanese\, means ‘Welcome to Japan.’ To introduce you to the wonderful world of Japan and bring you closer to several facets of Japanese culture and traditions through the learning of Japanese language and culture\, Japan Centres at Ahmedabad Management Association is pleased to announce the Advanced N5 Level Japanese Language Course for individual who have completed the Basic N5 Level Program. \nCOURSE OBJECTIVES AND EXPECTED OUTCOMES \nThe aim of this course is to facilitated Advanced N5 level of Japanese Language Vocabulary\, Grammar\, and Culture. \nThis Course introduces Vocabulary and Grammar of Japanese Language for Advanced N5 level and enables the Learner to achieve Advanced N5 Level of Japanese. \nSCOPE OF THE COURSE \nThis course aims to cover the following points: \n\nIntroduction of Advanced N5 Level Japanese Grammar\nPhrases for Daily and Business Japanese\nVocabulary & Pronunciation\nJapanese Culture & Manners for Different Occasions\n\nFOR WHOM \nThis Course will be conducted in Japanese and designed for those who have completed Basic N5 Level Program of Japanese Language and can read Hiragana\, Katakana and Basic 100 Kanjis. \nFACULTY\nMs. Atsuko Yamamoto\,\nNative Japanese Language Teacher (JOCV) \nFees: Rs. 9000/- (Including 18% GST) per participant \n Register Online  Download Brochure
URL:https://www.japancentreatama.com/event/advanced-n5-level-japanese-language-course-for-beginners-nov-2025/
LOCATION:Ahmedabad Management Association\, ATIRA Campus\, Dr.Vikram Sarabhai Marg\,\, Ahmedabad\, Gujarat\, 380015\, India
CATEGORIES:Course
END:VEVENT
BEGIN:VEVENT
DTSTART;TZID=Asia/Kolkata:20251125T180000
DTEND;TZID=Asia/Kolkata:20260217T203000
DTSTAMP:20260423T031852
CREATED:20251009T031524Z
LAST-MODIFIED:20251009T031524Z
UID:3058-1764093600-1771360200@www.japancentreatama.com
SUMMARY:BASIC N5 LEVEL JAPANESE LANGUAGE COURSE FOR BEGINNERS (N5 Level)
DESCRIPTION:Supported by Japan International Cooperation Agency (JICA) \nProgramme Dates:\nNovember 25\, 2025 to February 17\, 2026\nHolidays: (15 January) \nDuration:\n5 Hours per Week\, 12 Weeks Program [60 hours]\nTwo Days a Week; Every Tuesday and Thursday \nTime:\n6.00 to 8.30 pm \nProgramme Fee:\nINR 9\,000/- Inclusive 18% GST.\nConcession for Members 10%; Patron 20%. \nLast Date to Register:\nNovember 24\, 2025 \nFACULTY\nMs. Atsuko Yamamoto \n Register Online  Download Brochure
URL:https://www.japancentreatama.com/event/basic-n5-level-japanese-language-course-for-beginners-n5-level-nov-2025/
LOCATION:Ahmedabad Management Association\, ATIRA Campus\, Dr.Vikram Sarabhai Marg\,\, Ahmedabad\, Gujarat\, 380015\, India
CATEGORIES:Course
END:VEVENT
END:VCALENDAR